BEGIN:VCALENDAR
VERSION:2.0
PRODID:-//hacksw/handcal//NONSGML v1.0//EN
BEGIN:VEVENT
UID:570a79cfd161f0a4f5d5f5bec2feae83
DTSTAMP:20260421T123831Z

DTSTART:20260108T000000
DTEND:20260111T235959
SUMMARY:The U.S. 250 Tour Kickoff! Mesquite, Nevada | JANUARY 9, 10 & 11, 2026
DESCRIPTION:The U.S. 250 Social  is a monumental, coast-to-coast tour celebrating the 250th anniversary of the United States of America. As we reflect on two and a half centuries of American ingenuity, faith, and freedom, this tour brings history to life through music, storytelling, education, and family-centered activities. The tour kicks off in California and travels across all 50 states, with 50 Star-Studded events, Patriotic Shows, and an immersive experience in Freedom Village.

X-ALT-DESC;FMTTYPE=text/html:<!DOCTYPE HTML PUBLIC "-//W3C//DTD HTML 3.2//EN">\n<HTML>\n<HEAD>\n<META NAME="Generator" CONTENT="MS Exchange Server version 08.00.0681.000">\n<TITLE></TITLE>\n</HEAD>\n<BODY>\n<!-- Converted from text/rtf format -->\n\nThe U.S. 250 Social  is a monumental, coast-to-coast tour celebrating the 250th anniversary of the United States of America. As we reflect on two and a half centuries of American ingenuity, faith, and freedom, this tour brings history to life through music, storytelling, education, and family-centered activities. The tour kicks off in California and travels across all 50 states, with 50 Star-Studded events, Patriotic Shows, and an immersive experience in Freedom Village.\n\n</BODY>\n</HTML>

LOCATION:
END:VEVENT

END:VCALENDAR
